BEGIN:VCALENDAR
VERSION:2.0
PRODID:-//Literacy Network - ECPv6.15.18//NONSGML v1.0//EN
CALSCALE:GREGORIAN
METHOD:PUBLISH
X-WR-CALNAME:Literacy Network
X-ORIGINAL-URL:https://litnetsb.org
X-WR-CALDESC:Events for Literacy Network
REFRESH-INTERVAL;VALUE=DURATION:PT1H
X-Robots-Tag:noindex
X-PUBLISHED-TTL:PT1H
BEGIN:VTIMEZONE
TZID:America/New_York
BEGIN:DAYLIGHT
TZOFFSETFROM:-0500
TZOFFSETTO:-0400
TZNAME:EDT
DTSTART:20250309T070000
END:DAYLIGHT
BEGIN:STANDARD
TZOFFSETFROM:-0400
TZOFFSETTO:-0500
TZNAME:EST
DTSTART:20251102T060000
END:STANDARD
BEGIN:DAYLIGHT
TZOFFSETFROM:-0500
TZOFFSETTO:-0400
TZNAME:EDT
DTSTART:20260308T070000
END:DAYLIGHT
BEGIN:STANDARD
TZOFFSETFROM:-0400
TZOFFSETTO:-0500
TZNAME:EST
DTSTART:20261101T060000
END:STANDARD
BEGIN:DAYLIGHT
TZOFFSETFROM:-0500
TZOFFSETTO:-0400
TZNAME:EDT
DTSTART:20270314T070000
END:DAYLIGHT
BEGIN:STANDARD
TZOFFSETFROM:-0400
TZOFFSETTO:-0500
TZNAME:EST
DTSTART:20271107T060000
END:STANDARD
END:VTIMEZONE
BEGIN:VEVENT
DTSTART;TZID=America/New_York:20260210T120000
DTEND;TZID=America/New_York:20260531T120000
DTSTAMP:20260423T020725
CREATED:20260211T152453Z
LAST-MODIFIED:20260213T165106Z
UID:10000012-1770724800-1780228800@litnetsb.org
SUMMARY:Visit the Norman Rockwell Museum! FREE!
DESCRIPTION:Interested in doing a self-guided tour of the Norman Rockwell Museum with your learner? \nTo reserve your FREE entry (only for LitNet tutors and their learners)\, email learn@nrm.org with your requested date. A NMR team member will get back to you! \nJanuary- May\, 2026\, including weekends! (closed Wednesdays). \nLearn More
URL:https://litnetsb.org/events/visit-the-norman-rockwell-museum-free/
LOCATION:Norman Rockwell\, 9 Glendale Road\, Stockbridge\, MA\, 01262\, United States
CATEGORIES:Educational
ATTACH;FMTTYPE=image/jpeg:https://litnetsb.org/wp-content/uploads/nrm.jpg
ORGANIZER;CN="Norman Rockwell Museum":MAILTO:learn@nrm.org
END:VEVENT
BEGIN:VEVENT
DTSTART;TZID=America/New_York:20260423T190000
DTEND;TZID=America/New_York:20260423T203000
DTSTAMP:20260423T020725
CREATED:20260330T171306Z
LAST-MODIFIED:20260402T144350Z
UID:10000020-1776970800-1776976200@litnetsb.org
SUMMARY:Citizenship Prep Class
DESCRIPTION:Join other eligible or soon-to-be eligible candidates on their path to citizenship in a supportive and welcoming class aimed at preparation for the U.S. citizenship process. Led by experienced LitNet tutor Julius Wool and hosted at the Great Barrington Family Resource Center\, the class will practice common citizenship questions and review key civics topics in a comfortable\, low-pressure environment. This is an 8-week class beginning on Thursday\, 4/2\, 7 pm – 8:30 pm\, 7 running until 5/21. \nRegister Now
URL:https://litnetsb.org/events/citizenship-prep-class/2026-04-23/
LOCATION:Great Barrington Family Resource Center\, 141 West Avenue\, Great Barrington\, MA\, 01230\, United States
CATEGORIES:Educational
ATTACH;FMTTYPE=image/jpeg:https://litnetsb.org/wp-content/uploads/ff-3227ad96819a8b9fbb3a39c7b03d22de-ff-651789915_904399919237617_5216355651643296395_n.jpg
ORGANIZER;CN="Great Barrington Family Resource Center":MAILTO:info@csoinc.org
END:VEVENT
END:VCALENDAR