BEGIN:VCALENDAR
VERSION:2.0
PRODID:-//Literacy Network - ECPv6.15.18//NONSGML v1.0//EN
CALSCALE:GREGORIAN
METHOD:PUBLISH
X-ORIGINAL-URL:https://litnetsb.org
X-WR-CALDESC:Events for Literacy Network
REFRESH-INTERVAL;VALUE=DURATION:PT1H
X-Robots-Tag:noindex
X-PUBLISHED-TTL:PT1H
BEGIN:VTIMEZONE
TZID:America/New_York
BEGIN:DAYLIGHT
TZOFFSETFROM:-0500
TZOFFSETTO:-0400
TZNAME:EDT
DTSTART:20250309T070000
END:DAYLIGHT
BEGIN:STANDARD
TZOFFSETFROM:-0400
TZOFFSETTO:-0500
TZNAME:EST
DTSTART:20251102T060000
END:STANDARD
BEGIN:DAYLIGHT
TZOFFSETFROM:-0500
TZOFFSETTO:-0400
TZNAME:EDT
DTSTART:20260308T070000
END:DAYLIGHT
BEGIN:STANDARD
TZOFFSETFROM:-0400
TZOFFSETTO:-0500
TZNAME:EST
DTSTART:20261101T060000
END:STANDARD
BEGIN:DAYLIGHT
TZOFFSETFROM:-0500
TZOFFSETTO:-0400
TZNAME:EDT
DTSTART:20270314T070000
END:DAYLIGHT
BEGIN:STANDARD
TZOFFSETFROM:-0400
TZOFFSETTO:-0500
TZNAME:EST
DTSTART:20271107T060000
END:STANDARD
END:VTIMEZONE
BEGIN:VEVENT
DTSTART;TZID=America/New_York:20260625T160000
DTEND;TZID=America/New_York:20260625T190000
DTSTAMP:20260413T192533
CREATED:20260212T171808Z
LAST-MODIFIED:20260212T171918Z
UID:10000014-1782403200-1782414000@litnetsb.org
SUMMARY:Good Ol' American Picinic: Celebrating LitNet's 35th Birthday!
DESCRIPTION:LitNet tutors and learners\, and their families\, are invited to a Good Ol’ American Picnic. We will grill hamburgers and hot dogs and serve them along with potato salad\, watermelon\, and chips! Engage in a game of kickball. Get your facepainted! Enjoy an ice cream from the ice cream truck! Dance to the sounds of the bluegrass band Unken Brew featuring LitNet tutor Sam Katz on the mandolin. We will also sing Happy Birthday to LitNet and enjoy some cake. \n(Registration link coming soon!)
URL:https://litnetsb.org/events/good-ol-american-picinic-celebrating-litnets-35th-birthday/
LOCATION:Lee Athletic Field\, Housatonic Street\, Lee\, MA\, 01238\, United States
CATEGORIES:Community
ATTACH;FMTTYPE=image/jpeg:https://litnetsb.org/wp-content/uploads/ff-7c47028a1f5dfe5df20812b46dabb63f-ff-download.jpg
ORGANIZER;CN="Literacy Network of South Berkshire%2C Inc.":MAILTO:info@litnetsb.org
END:VEVENT
BEGIN:VEVENT
DTSTART;TZID=America/New_York:20260809T180000
DTEND;TZID=America/New_York:20260809T190000
DTSTAMP:20260413T192533
CREATED:20260123T180830Z
LAST-MODIFIED:20260219T165105Z
UID:10000009-1786298400-1786302000@litnetsb.org
SUMMARY:LitNet's Moth-inspired Storytelling Event
DESCRIPTION:The Literacy Network (LitNet) presents a live storytelling event. Immigrant learners enrolled with LitNet for English language support will work with storytelling coach Sheela Clary to bring you true stories\, performed live onstage\, on the theme of “Fish Out of Water.” \nA reception will follow this event! Please join us. \nSheela Clary\, founder of Shire Stories\, was born and raised in South Berkshire County. She’s a Moth Story Slam winner and Grand Slam participant and organizes storytelling events locally. Her essays and journalism can be found in the Berkshire Edge and on her newsletter\, Clarity. She lives in West Stockbridge.
URL:https://litnetsb.org/events/litnets-moth-inspired-storytelling-event/
LOCATION:The Mount\, 2 Plunkett Street\, Lenox\, MA\, 01240\, United States
CATEGORIES:Community
ATTACH;FMTTYPE=image/jpeg:https://litnetsb.org/wp-content/uploads/moth-inspired-story-telling-event.jpg
ORGANIZER;CN="Literacy Network of South Berkshire%2C Inc.":MAILTO:info@litnetsb.org
END:VEVENT
BEGIN:VEVENT
DTSTART;TZID=America/New_York:20261003T180000
DTEND;TZID=America/New_York:20261003T220000
DTSTAMP:20260413T192533
CREATED:20260212T170442Z
LAST-MODIFIED:20260212T171547Z
UID:10000013-1791050400-1791064800@litnetsb.org
SUMMARY:LitNet's Annual Celebration
DESCRIPTION:Join us for our annual celebration featuring live music\, great food\, and amazing people! LOCATION AND DETAILS COMING SOON!
URL:https://litnetsb.org/events/litnets-annual-celebration/
LOCATION:Barrington Hall\, Great Barrington\, MA\, 01230\, United States
CATEGORIES:Fundraiser
ATTACH;FMTTYPE=image/jpeg:https://litnetsb.org/wp-content/uploads/litnet-annual-celebration.jpg
ORGANIZER;CN="Literacy Network of South Berkshire%2C Inc.":MAILTO:info@litnetsb.org
END:VEVENT
END:VCALENDAR