BEGIN:VCALENDAR
VERSION:2.0
PRODID:-//Literacy Network - ECPv6.15.18//NONSGML v1.0//EN
CALSCALE:GREGORIAN
METHOD:PUBLISH
X-WR-CALNAME:Literacy Network
X-ORIGINAL-URL:https://litnetsb.org
X-WR-CALDESC:Events for Literacy Network
REFRESH-INTERVAL;VALUE=DURATION:PT1H
X-Robots-Tag:noindex
X-PUBLISHED-TTL:PT1H
BEGIN:VTIMEZONE
TZID:America/New_York
BEGIN:DAYLIGHT
TZOFFSETFROM:-0500
TZOFFSETTO:-0400
TZNAME:EDT
DTSTART:20250309T070000
END:DAYLIGHT
BEGIN:STANDARD
TZOFFSETFROM:-0400
TZOFFSETTO:-0500
TZNAME:EST
DTSTART:20251102T060000
END:STANDARD
BEGIN:DAYLIGHT
TZOFFSETFROM:-0500
TZOFFSETTO:-0400
TZNAME:EDT
DTSTART:20260308T070000
END:DAYLIGHT
BEGIN:STANDARD
TZOFFSETFROM:-0400
TZOFFSETTO:-0500
TZNAME:EST
DTSTART:20261101T060000
END:STANDARD
BEGIN:DAYLIGHT
TZOFFSETFROM:-0500
TZOFFSETTO:-0400
TZNAME:EDT
DTSTART:20270314T070000
END:DAYLIGHT
BEGIN:STANDARD
TZOFFSETFROM:-0400
TZOFFSETTO:-0500
TZNAME:EST
DTSTART:20271107T060000
END:STANDARD
END:VTIMEZONE
BEGIN:VEVENT
DTSTART;TZID=America/New_York:20260408T150000
DTEND;TZID=America/New_York:20260408T160000
DTSTAMP:20260420T152355
CREATED:20260219T172224Z
LAST-MODIFIED:20260219T173821Z
UID:10000008-1775660400-1775664000@litnetsb.org
SUMMARY:Tutor Town Hall (In Person)
DESCRIPTION:Join Director of Tutoring Miguel and peer tutors in this informal gathering. Hear updates from LitNet\, including new resources. Come with ideas or questions to share. \nRegister Now \n 
URL:https://litnetsb.org/events/tutor-town-hall-in-person/
LOCATION:Greylock Federal Credit Union Community Room\, 43 Park Street\, Lee\, MA\, 01238\, United States
CATEGORIES:Educational
ATTACH;FMTTYPE=image/jpeg:https://litnetsb.org/wp-content/uploads/tutor-town-hall.jpg
ORGANIZER;CN="Literacy Network of South Berkshire%2C Inc.":MAILTO:info@litnetsb.org
END:VEVENT
END:VCALENDAR