BEGIN:VCALENDAR
VERSION:2.0
PRODID:-//Literacy Network - ECPv6.15.18//NONSGML v1.0//EN
CALSCALE:GREGORIAN
METHOD:PUBLISH
X-WR-CALNAME:Literacy Network
X-ORIGINAL-URL:https://litnetsb.org
X-WR-CALDESC:Events for Literacy Network
REFRESH-INTERVAL;VALUE=DURATION:PT1H
X-Robots-Tag:noindex
X-PUBLISHED-TTL:PT1H
BEGIN:VTIMEZONE
TZID:America/New_York
BEGIN:DAYLIGHT
TZOFFSETFROM:-0500
TZOFFSETTO:-0400
TZNAME:EDT
DTSTART:20250309T070000
END:DAYLIGHT
BEGIN:STANDARD
TZOFFSETFROM:-0400
TZOFFSETTO:-0500
TZNAME:EST
DTSTART:20251102T060000
END:STANDARD
BEGIN:DAYLIGHT
TZOFFSETFROM:-0500
TZOFFSETTO:-0400
TZNAME:EDT
DTSTART:20260308T070000
END:DAYLIGHT
BEGIN:STANDARD
TZOFFSETFROM:-0400
TZOFFSETTO:-0500
TZNAME:EST
DTSTART:20261101T060000
END:STANDARD
BEGIN:DAYLIGHT
TZOFFSETFROM:-0500
TZOFFSETTO:-0400
TZNAME:EDT
DTSTART:20270314T070000
END:DAYLIGHT
BEGIN:STANDARD
TZOFFSETFROM:-0400
TZOFFSETTO:-0500
TZNAME:EST
DTSTART:20271107T060000
END:STANDARD
END:VTIMEZONE
BEGIN:VEVENT
DTSTART;TZID=America/New_York:20260813T160000
DTEND;TZID=America/New_York:20260813T190000
DTSTAMP:20260413T203301
CREATED:20260408T183604Z
LAST-MODIFIED:20260408T183604Z
UID:10000025-1786636800-1786647600@litnetsb.org
SUMMARY:Annual Tutor Appreciation Celebration 2026
DESCRIPTION:LitNet invites all of our amazing tutors (and their spouses!) to join Team LitNet at this annual gathering honoring YOU\, the tutors! Light bites and refreshments will be served. There will be an appreciation raffle! Link to RSVP coming later this summer. Save the Date! \nComing in summer 2026!
URL:https://litnetsb.org/events/annual-tutor-appreciation-celebration-2026/
LOCATION:Home of LitNet Friends\, The Murrays\, (location to be shared at a later date)
CATEGORIES:Community
ATTACH;FMTTYPE=image/jpeg:https://litnetsb.org/wp-content/uploads/ff-940c1d9490281e750436d1f13919bda5-ff-534817243_1187216643440762_5844287355647841728_n.jpg
END:VEVENT
END:VCALENDAR