BEGIN:VCALENDAR
VERSION:2.0
PRODID:-//Literacy Network - ECPv6.15.18//NONSGML v1.0//EN
CALSCALE:GREGORIAN
METHOD:PUBLISH
X-WR-CALNAME:Literacy Network
X-ORIGINAL-URL:https://litnetsb.org
X-WR-CALDESC:Events for Literacy Network
REFRESH-INTERVAL;VALUE=DURATION:PT1H
X-Robots-Tag:noindex
X-PUBLISHED-TTL:PT1H
BEGIN:VTIMEZONE
TZID:America/New_York
BEGIN:DAYLIGHT
TZOFFSETFROM:-0500
TZOFFSETTO:-0400
TZNAME:EDT
DTSTART:20250309T070000
END:DAYLIGHT
BEGIN:STANDARD
TZOFFSETFROM:-0400
TZOFFSETTO:-0500
TZNAME:EST
DTSTART:20251102T060000
END:STANDARD
BEGIN:DAYLIGHT
TZOFFSETFROM:-0500
TZOFFSETTO:-0400
TZNAME:EDT
DTSTART:20260308T070000
END:DAYLIGHT
BEGIN:STANDARD
TZOFFSETFROM:-0400
TZOFFSETTO:-0500
TZNAME:EST
DTSTART:20261101T060000
END:STANDARD
BEGIN:DAYLIGHT
TZOFFSETFROM:-0500
TZOFFSETTO:-0400
TZNAME:EDT
DTSTART:20270314T070000
END:DAYLIGHT
BEGIN:STANDARD
TZOFFSETFROM:-0400
TZOFFSETTO:-0500
TZNAME:EST
DTSTART:20271107T060000
END:STANDARD
END:VTIMEZONE
BEGIN:VEVENT
DTSTART;TZID=America/New_York:20260411T090000
DTEND;TZID=America/New_York:20260411T160000
DTSTAMP:20260420T154817
CREATED:20260324T170752Z
LAST-MODIFIED:20260324T170752Z
UID:10000016-1775898000-1775923200@litnetsb.org
SUMMARY:Visit to UMASS Amherst-First Generation College Program
DESCRIPTION:Join LitNet’s First-Gen College Support Team and Berkshire County first-gen college hopefuls on this tour of UMass Amherst! Transportation will be provided by our partners\, Greenagers. Together\, we will tour the campus\, dine in the dining hall\, engage in a question-and-answer panel\, and participate in fun activities with current UMass students. \n**Details about pick up location and exact timing will be communicated to registered participants. \nRegister Now
URL:https://litnetsb.org/events/visit-to-umass-amherst-first-generation-college-program/
LOCATION:UMass Amherst\, 300 Massachusetts Avenue\, Amhert\, MA\, 01003\, United States
CATEGORIES:Educational
ATTACH;FMTTYPE=image/png:https://litnetsb.org/wp-content/uploads/umass-flyer.png
ORGANIZER;CN="Greenagers":MAILTO:office@greenagers.org
END:VEVENT
END:VCALENDAR