BEGIN:VCALENDAR
VERSION:2.0
PRODID:-//Literacy Network - ECPv6.15.18//NONSGML v1.0//EN
CALSCALE:GREGORIAN
METHOD:PUBLISH
X-WR-CALNAME:Literacy Network
X-ORIGINAL-URL:https://litnetsb.org
X-WR-CALDESC:Events for Literacy Network
REFRESH-INTERVAL;VALUE=DURATION:PT1H
X-Robots-Tag:noindex
X-PUBLISHED-TTL:PT1H
BEGIN:VTIMEZONE
TZID:America/New_York
BEGIN:DAYLIGHT
TZOFFSETFROM:-0500
TZOFFSETTO:-0400
TZNAME:EDT
DTSTART:20250309T070000
END:DAYLIGHT
BEGIN:STANDARD
TZOFFSETFROM:-0400
TZOFFSETTO:-0500
TZNAME:EST
DTSTART:20251102T060000
END:STANDARD
BEGIN:DAYLIGHT
TZOFFSETFROM:-0500
TZOFFSETTO:-0400
TZNAME:EDT
DTSTART:20260308T070000
END:DAYLIGHT
BEGIN:STANDARD
TZOFFSETFROM:-0400
TZOFFSETTO:-0500
TZNAME:EST
DTSTART:20261101T060000
END:STANDARD
BEGIN:DAYLIGHT
TZOFFSETFROM:-0500
TZOFFSETTO:-0400
TZNAME:EDT
DTSTART:20270314T070000
END:DAYLIGHT
BEGIN:STANDARD
TZOFFSETFROM:-0400
TZOFFSETTO:-0500
TZNAME:EST
DTSTART:20271107T060000
END:STANDARD
END:VTIMEZONE
BEGIN:VEVENT
DTSTART;TZID=America/New_York:20260502T090000
DTEND;TZID=America/New_York:20260502T150000
DTSTAMP:20260414T021047
CREATED:20260224T174655Z
LAST-MODIFIED:20260402T152757Z
UID:10000015-1777712400-1777734000@litnetsb.org
SUMMARY:College Campus Visit to Williams College
DESCRIPTION:Join LitNet’s First-Gen College Support Team and Berkshire County first-gen college hopefuls on this tour of Williams College! Transportation will be provided. Together\, we will meet students from the Williams College Latinx Student Organization\, tour the campus\, dine in the dining hall\, and engage in a question-and-answer panel. \nRegister Now
URL:https://litnetsb.org/events/college-campus-visit-to-williams-college/
LOCATION:Williams College\, 880 Main Street\, Williamstown\, MA\, 01267\, United States
CATEGORIES:Educational
ATTACH;FMTTYPE=image/jpeg:https://litnetsb.org/wp-content/uploads/williams-college-visit.jpg
END:VEVENT
END:VCALENDAR